127.031651113319
0.000000000000
0.000000000000
-127.016129161815
-58338.634302276158
298766.993903415394
